BEGIN:VCALENDAR
VERSION:2.0
PRODID:-//Ferma il riarmo! - ECPv6.10.3//NONSGML v1.0//EN
CALSCALE:GREGORIAN
METHOD:PUBLISH
X-WR-CALNAME:Ferma il riarmo!
X-ORIGINAL-URL:https://fermailriarmo.it
X-WR-CALDESC:Eventi per Ferma il riarmo!
REFRESH-INTERVAL;VALUE=DURATION:PT1H
X-Robots-Tag:noindex
X-PUBLISHED-TTL:PT1H
BEGIN:VTIMEZONE
TZID:UTC
BEGIN:STANDARD
TZOFFSETFROM:+0000
TZOFFSETTO:+0000
TZNAME:UTC
DTSTART:20250101T000000
END:STANDARD
END:VTIMEZONE
BEGIN:VEVENT
DTSTART;TZID=UTC:20250506T110000
DTEND;TZID=UTC:20250506T130000
DTSTAMP:20260425T133709
CREATED:20250505T113722Z
LAST-MODIFIED:20250505T113722Z
UID:777-1746529200-1746536400@fermailriarmo.it
SUMMARY:Oltre il riarmo: alternative possibili
DESCRIPTION:Un webinar di approfondimento sulle politiche di riarmo in Italia ed Europa e le possibili alternative\n\n\nMartedì 6 maggio alle ore 11.00 si terrà l’iniziativa di approfondimento online “OLTRE IL RIARMO: ALTERNATIVE POSSIBILI”: un incontro sulle politiche e gli investimenti in armamenti italiani ed Europei e le possibili alternative in tema di spesa pubblica\, giustizia\, occupazione\, ambiente e trasformazione nonviolenta dei conflitti. \nDurante il webinar interverranno Francesco Vignarca\, Coordinatore delle campagne della Rete Italiana Pace e Disarmo\, Giulio Marcon\, portavoce della Campagna Sbilanciamoci\, e Sofia Basso\, giornalista e parte dell’Unità Investigativa di Greenpeace Italia sui temi della pace e del disarmo. L’evento si aprirà con l’introduzione a cura di Giuseppe Piacenza\, che per la Comunità Papa Giovanni XXIII è referente di Rete Italiana Pace e Disarmo e sarà moderato da Laura Milani\, Coordinatrice Responsabile del Servizio Civile Universale per la Comunità Papa Giovanni XXII. A seguire\, anche l’intervento conclusivo a cura del Responsabile Generale dell’associazione\, Matteo Fadda. \n\n\nSCARICA IL PROGRAMMA\n\n\n“In un momento storico caratterizzato da guerre e violenza\, in cui anche l’Europa\, nata come progetto di pace e solidarietà\, sceglie la “pace attraverso la forza” e il riarmo”\, dichiara Fadda “crediamo fondamentale valorizzare e investire in tutte quelle esperienze finalizzate alla prevenzione e alla trasformazione nonviolenta dei conflitti\, anziché nel riarmo. Tra queste\, il Servizio Civile\, che ha come finalità la Difesa Civile non armata e nonviolenta\, e i Corpi Civili di pace\, che rappresentano delle vere alternative nonviolente alle spese militari” \nL’iniziativa si colloca all’interno della Campagna Globale sulle Spese Militari e della Campagna “Ferma il Riarmo” promossa da Sbilanciamoci\, Fondazione PerugiaAssisi per la cultura della pace\, Greenpeace Italia e Rete Italiana Pace e Disarmo\, di cui la Comunità Papa Giovanni XXIII fa parte. Il webinar si inserisce nella mobilitazione sulle Giornate di azione contro le spese militari 2025 dal 10 aprile al 9 maggio \n  \n\n\nISCRIVITI QUI PER PARTECIPARE\n 
URL:https://fermailriarmo.it/event/oltre-il-riarmo-alternative-possibili/
CATEGORIES:Altre Organizzazioni
ATTACH;FMTTYPE=image/png:https://fermailriarmo.it/wp-content/uploads/2025/05/Webinar6Maggio25_Oltreilriarmo.png
END:VEVENT
BEGIN:VEVENT
DTSTART;TZID=UTC:20250403T170000
DTEND;TZID=UTC:20250403T190000
DTSTAMP:20260425T133709
CREATED:20250324T200629Z
LAST-MODIFIED:20250402T043524Z
UID:582-1743699600-1743706800@fermailriarmo.it
SUMMARY:Come mobilitarsi contro le politiche di riarmo
DESCRIPTION:Un incontro online di formazione e coordinamento della Campagna “Ferma il Riarmo” in preparazione alle Giornate Globali di Azione sulle Spese Militari (GDAMS)\ngiovedì 3 aprile ore 17.00 -19.00\nin diretta su Facebook e YouTube \nL’Europa annuncia un piano di 800 miliardi per le spese militari. L’Italia ha già aumentato nel 2025 del 12% delle spese militari e si appresta a spendere 40 miliardi di euro nei prossimi anni per i sistemi d’arma. I soldi per le armi sono soldi per la guerra: questo significa meno risorse per la scuola\, per gli ospedali\, per i servizi sociali\, per l’ambiente\, per il lavoro. Mobilitiamoci per fermare i piani di riarmo e rilanciare le politiche di pace. \nIl prossimo 3 aprile la campagna Ferma il riarmo organizza un webinar di formazione e di coordinamento per discutere e confrontarci sulle prospettive – in ambito italiano ed europeo – delle scelte e delle politiche di riarmo\, da ReArm Europe alle spese militari italiane; per confrontarci sulle proposte politiche della campagna per la riduzione delle delle spese militari\, la riconversione dell’industria bellica\, le politiche di pace; per coordinarci sulle iniziative di mobilitazione e di sensibilizzazione della campagna e per il lancio del mese di iniziative dal 10 aprile al 10 maggio. \ncon interventi di: \nSofia Basso (Greenpeace Italia) \nSergio Bassoli (Rete Pace Disarmo) \nRaffaella Bolini (Stop ReArm Europe) \nAntonella Di Matteo (Campagna GCOMS) \nFrancesca Giuliani (Sbilanciamoci) \nFlavio Lotti (Fondazione PerugiAssisi) \nGiulio Marcon (Sbilanciamoci) \nFrancesco Vignarca (Rete Pace Disarmo) \n 
URL:https://fermailriarmo.it/event/come-mobilitarsi-contro-le-politiche-di-riarmo/
CATEGORIES:Iniziative di Ferma il Riarmo
ATTACH;FMTTYPE=image/jpeg:https://fermailriarmo.it/wp-content/uploads/2025/03/Evento-Ferma-Riarmo-3-aprile-2025.jpg
END:VEVENT
BEGIN:VEVENT
DTSTART;TZID=UTC:20250401T143000
DTEND;TZID=UTC:20250401T163000
DTSTAMP:20260425T133709
CREATED:20250326T080040Z
LAST-MODIFIED:20250327T071144Z
UID:599-1743517800-1743525000@fermailriarmo.it
SUMMARY:Ferma il riarmo: assemblea all'Istat
DESCRIPTION:Martedì 1° aprile 2025 – ore 14.30-16.30 – Aula 139 via Balbo 16\, Roma \n\n\n\nContro l’escalation di guerra e il piano annunciato da Ursula von der Leyen (ReArm Europe) le principali reti pacifiste italiane hanno lanciato la campagna “Ferma il riarmo” (www.fermailriarmo.it). \nNon si può aspettare oltre: l’azione per la pace e contro il riarmo è oggi più che mai impellente. L’Europa o è di pace o non è: non serve una nuova fortezza militare\, ma un attore internazionale capace di costruirenonuna nuova alleanza militare o di riarmarsi fino ai denti\, ma una sicurezza comune e condivisa\, fondata sul disarmo e sulla cooperazione internazionale tra gli Stati. \nLa FLC CGIL dell’Istat invita in assemblea lavoratrici e lavoratori martedì 1° aprile 2025 in aula del seminario (139) a via Balbo e in collegamento Teams\, dalle 14.30 alle 16.30\, per parlare della campagna e della mobilitazione “ferma il riarmo” con: \n\nGiulio Marcon\, esponente della campagna Ferma il riarmo e portavoce di Sbilanciamoci\nMonica Di Sisto\, giornalista e responsabile dell’Osservatorio Fairwatch\nValentina Lista\, analista di politica internazionale\, Centro di documentazione P. Martignetti\nMiriam Di Paola\, dipartimento politiche internazionali FLC CGIL
URL:https://fermailriarmo.it/event/ferma-il-riarmo-assemblea-allistat/
LOCATION:Aula 139\, Via Balbo 16\, Roma
CATEGORIES:Altre Organizzazioni
ATTACH;FMTTYPE=image/jpeg:https://fermailriarmo.it/wp-content/uploads/2024/10/Logo-contro-spese-militari-Giuliani-C.jpeg
END:VEVENT
END:VCALENDAR