BEGIN:VCALENDAR
VERSION:2.0
PRODID:-//Ferma il riarmo! - ECPv6.10.3//NONSGML v1.0//EN
CALSCALE:GREGORIAN
METHOD:PUBLISH
X-WR-CALNAME:Ferma il riarmo!
X-ORIGINAL-URL:https://fermailriarmo.it
X-WR-CALDESC:Eventi per Ferma il riarmo!
REFRESH-INTERVAL;VALUE=DURATION:PT1H
X-Robots-Tag:noindex
X-PUBLISHED-TTL:PT1H
BEGIN:VTIMEZONE
TZID:UTC
BEGIN:STANDARD
TZOFFSETFROM:+0000
TZOFFSETTO:+0000
TZNAME:UTC
DTSTART:20250101T000000
END:STANDARD
END:VTIMEZONE
BEGIN:VEVENT
DTSTART;TZID=UTC:20250529T164500
DTEND;TZID=UTC:20250529T190000
DTSTAMP:20260425T133809
CREATED:20250526T072953Z
LAST-MODIFIED:20250526T072953Z
UID:848-1748537100-1748545200@fermailriarmo.it
SUMMARY:Europa ed economia di guerra. Le alternative possibili
DESCRIPTION:Verso l’altro 2 giugno\, Festa della Repubblica che ripudia la guerra\nEUROPA ED ECONOMIA DI GUERRA. LE ALTERNATIVE POSSIBILI\nGiovedì 29 MAGGIO 2025 – ore 16.45 \nPALAZZO D’ACCURSIO – CAPPELLA FARNESE – BOLOGNA \n  \nIncontro pubblico con: \nSTEFANO ZAMAGNI – UNIBO\, Ordinario di Economia Politica \nVERA NEGRI – UNIBO\, Ordinaria di Storia economica e dell’industria \nLINDA MAGGIORI – Giornalista freelance e attivista ambientale \nCARLO CEFALONI – Giornalista Città Nuova\, Economia Disarmata \nSALUTO: DANIELE ARA – Assessore alla pace \n  \nPROMOSSO da Portico della Pace e Città Nuova \nPer informazioni > Facebook e Instagram @porticodellapace
URL:https://fermailriarmo.it/event/europa-ed-economia-di-guerra-le-alternative-possibili/
LOCATION:Cappella Farnese Palazzo D’Accursio\, Piazza Maggiore\, Bologna
ATTACH;FMTTYPE=image/jpeg:https://fermailriarmo.it/wp-content/uploads/2025/05/europa-economia-guerra-Bologna-29-maggio.jpg
END:VEVENT
END:VCALENDAR